BEGIN:VCALENDAR
VERSION:2.0
PRODID:-//Finnish Flag Football Officials (FFFO) ry - ECPv6.15.20//NONSGML v1.0//EN
CALSCALE:GREGORIAN
METHOD:PUBLISH
X-ORIGINAL-URL:https://www.flagi.fi
X-WR-CALDESC:Tapahtumat Finnish Flag Football Officials (FFFO) ry
REFRESH-INTERVAL;VALUE=DURATION:PT1H
X-Robots-Tag:noindex
X-PUBLISHED-TTL:PT1H
BEGIN:VTIMEZONE
TZID:Europe/Helsinki
BEGIN:DAYLIGHT
TZOFFSETFROM:+0200
TZOFFSETTO:+0300
TZNAME:EEST
DTSTART:20240331T010000
END:DAYLIGHT
BEGIN:STANDARD
TZOFFSETFROM:+0300
TZOFFSETTO:+0200
TZNAME:EET
DTSTART:20241027T010000
END:STANDARD
BEGIN:DAYLIGHT
TZOFFSETFROM:+0200
TZOFFSETTO:+0300
TZNAME:EEST
DTSTART:20250330T010000
END:DAYLIGHT
BEGIN:STANDARD
TZOFFSETFROM:+0300
TZOFFSETTO:+0200
TZNAME:EET
DTSTART:20251026T010000
END:STANDARD
BEGIN:DAYLIGHT
TZOFFSETFROM:+0200
TZOFFSETTO:+0300
TZNAME:EEST
DTSTART:20260329T010000
END:DAYLIGHT
BEGIN:STANDARD
TZOFFSETFROM:+0300
TZOFFSETTO:+0200
TZNAME:EET
DTSTART:20261025T010000
END:STANDARD
END:VTIMEZONE
BEGIN:VEVENT
DTSTART;TZID=Europe/Helsinki:20250417T180000
DTEND;TZID=Europe/Helsinki:20250417T220000
DTSTAMP:20260423T103119
CREATED:20250402T130415Z
LAST-MODIFIED:20250402T130415Z
UID:408-1744912800-1744927200@www.flagi.fi
SUMMARY:Syventävä sääntökoulutus II
DESCRIPTION:Syvemmässä sääntökoulutuksessa mennään kansainvälisiin materiaaleihin\, joista tarkastellaan hienovaraisempia sääntödetaljeja\, erilaisia haasteellisia tulkintatilanteita sekä niiden ratkaisuja. Tämä koulutus soveltuu kokeneemmille erotuomareille ja kansainvälistä uraa suunnitteleville erotuomareille. \nKoulutuksen sisältö on sama\, mikä 23.3. pidetyssä syventävässä sääntökoulutuksessa. \nIlmoittaudu koulutukseen lomakkeen kautta: \n\n\n  \n\n\n\n Nimi\n \n \n Sähköpostiosoite\n \n \n Puhelinnumero\n \n \n Kaupunki
URL:https://www.flagi.fi/tapahtumat/syventava-saantokoulutus-170425/
CATEGORIES:Koulutukset
END:VEVENT
END:VCALENDAR